BEGIN:VCALENDAR
VERSION:2.0
PRODID:-//CAC-Outaouais - ECPv6.15.20//NONSGML v1.0//EN
CALSCALE:GREGORIAN
METHOD:PUBLISH
X-ORIGINAL-URL:https://cac-outaouais.org
X-WR-CALDESC:Événements pour CAC-Outaouais
REFRESH-INTERVAL;VALUE=DURATION:PT1H
X-Robots-Tag:noindex
X-PUBLISHED-TTL:PT1H
BEGIN:VTIMEZONE
TZID:America/Toronto
BEGIN:DAYLIGHT
TZOFFSETFROM:-0500
TZOFFSETTO:-0400
TZNAME:EDT
DTSTART:20250309T070000
END:DAYLIGHT
BEGIN:STANDARD
TZOFFSETFROM:-0400
TZOFFSETTO:-0500
TZNAME:EST
DTSTART:20251102T060000
END:STANDARD
BEGIN:DAYLIGHT
TZOFFSETFROM:-0500
TZOFFSETTO:-0400
TZNAME:EDT
DTSTART:20260308T070000
END:DAYLIGHT
BEGIN:STANDARD
TZOFFSETFROM:-0400
TZOFFSETTO:-0500
TZNAME:EST
DTSTART:20261101T060000
END:STANDARD
BEGIN:DAYLIGHT
TZOFFSETFROM:-0500
TZOFFSETTO:-0400
TZNAME:EDT
DTSTART:20270314T070000
END:DAYLIGHT
BEGIN:STANDARD
TZOFFSETFROM:-0400
TZOFFSETTO:-0500
TZNAME:EST
DTSTART:20271107T060000
END:STANDARD
END:VTIMEZONE
BEGIN:VEVENT
DTSTART;TZID=America/Toronto:20260423T180000
DTEND;TZID=America/Toronto:20260423T200000
DTSTAMP:20260422T050451
CREATED:20260311T235354Z
LAST-MODIFIED:20260420T111859Z
UID:9739-1776967200-1776974400@cac-outaouais.org
SUMMARY:ANNULÉ /// Soirée escalade – Altitude gym Gatineau
DESCRIPTION:Jeudi 23 avril 2026 – 18h00 à 20h00 \nSoirée escalade au Altitude gym Gatineau. Tous les niveaux sont les bienvenus. De la moulinette et du lead. Rendez-vous au sous-sol (annexe) à 18h00 pour former des groupes.
URL:https://cac-outaouais.org/sorties/soiree-escalade-altitude-gym-gatineau-11/
LOCATION:Altitude Gym\, 35 Boulevard Saint-Raymond\, Gatineau\, QC\, J8Y 1R5\, Canada
END:VEVENT
BEGIN:VEVENT
DTSTART;VALUE=DATE:20260425
DTEND;VALUE=DATE:20260427
DTSTAMP:20260422T050451
CREATED:20260303T042242Z
LAST-MODIFIED:20260405T153433Z
UID:9731-1777075200-1777247999@cac-outaouais.org
SUMMARY:Fin de semaine de la Corvée printanière au refuge Keene dans les Adirondacks – Recherchons Bénévoles
DESCRIPTION:La corvée est pour samedi 25 avril toute la journée et dimanche 26 avril en avant midi. \nOui\, l’idéal c’est d’arriver le vendredi 24 soir\, sinon … la Corvée débute à 08:00 le samedi! \n2 repas sont inclus pour les bénévoles….le lunch et le souper du samedi grâce à la Section d’Outaouais! \nComme à chaque année\, la section Outaouais s’engage à fournir quelques bénévoles pour la corvée printanière au refuge Keene dans les Adirondack. Le refuge appartient et est géré par la section Montréal et pour que nous puissions en bénéficier nous pourvoyons le lunch et souper du samedi durant la fin de semaine de la corvée printanière\, et nous contribuons aux taches avec les bénévoles de la section de Montréal. \nJe m’engage à la planification des repas et je suis à la recherche de bénévoles de notre section pour venir prêter main forte au groupe\, et m’aider avec la préparation des repas. \nNous recherchons entre 8-10 personnes de notre section pour participer aux corvées pour préparer le site pour la saison estivale. La section MTL pourvoit la plupart des bénévoles\, cela dit\, nous pouvons en accepter aussi. Les organisateurs visent pour 25 bénévoles et réserve jusqu’à 10 places pour notre section. \nAucune expérience requise juste votre bonne forme et sourire. Cela dit\, voici quelque taches anticipés pout cette corvée: \n– Entretien et travaux généraux – intérieur et extérieur \n– Aménagement/nettoyage du refuge \n– Préparation du bois pour l’hiver – coupe \n– Électricité \nA quoi ça ressemble cette fin de semaine : \nNous nous rencontrons au refuge Keene le vendredi soir (certain tôt le samedi matin)\, nous y dormons soit dans le refuge ou au camping\, votre choix\, et le matin nous effectuons des taches qui nous sont assignées. \nLe dimanche est plus relaxe et souvent les gens sont plus libres selon les taches restantes. Plusieurs vont prendre la route de retour vers midi\, où irons faire une rando. \nSi vous êtes intéressé inscrivez-vous sur notre site et quelques semaines avant la corvée je communiquerai avec vous. \nSi vous voulez participer à la préparation des repas svp me l’indiquer dans les commentaires. \nPour plus d’info sur le refuge : https://alpineclubmontreal.ca/refuge-et-camping/ \nJosée Desjardins
URL:https://cac-outaouais.org/sorties/fin-de-semaine-de-la-corvee-printaniere-au-refuge-keene-dans-les-adirondacks-recherchons-benevoles/
LOCATION:Keene Farm\, 193 Styles Brook Rd\, Keene\, NY\, 12942\, USA
CATEGORIES:Bénévolat
END:VEVENT
END:VCALENDAR