BEGIN:VCALENDAR
VERSION:2.0
PRODID:-//CAC-Outaouais - ECPv6.15.20//NONSGML v1.0//EN
CALSCALE:GREGORIAN
METHOD:PUBLISH
X-ORIGINAL-URL:https://cac-outaouais.org
X-WR-CALDESC:Événements pour CAC-Outaouais
REFRESH-INTERVAL;VALUE=DURATION:PT1H
X-Robots-Tag:noindex
X-PUBLISHED-TTL:PT1H
BEGIN:VTIMEZONE
TZID:America/Toronto
BEGIN:DAYLIGHT
TZOFFSETFROM:-0500
TZOFFSETTO:-0400
TZNAME:EDT
DTSTART:20250309T070000
END:DAYLIGHT
BEGIN:STANDARD
TZOFFSETFROM:-0400
TZOFFSETTO:-0500
TZNAME:EST
DTSTART:20251102T060000
END:STANDARD
BEGIN:DAYLIGHT
TZOFFSETFROM:-0500
TZOFFSETTO:-0400
TZNAME:EDT
DTSTART:20260308T070000
END:DAYLIGHT
BEGIN:STANDARD
TZOFFSETFROM:-0400
TZOFFSETTO:-0500
TZNAME:EST
DTSTART:20261101T060000
END:STANDARD
BEGIN:DAYLIGHT
TZOFFSETFROM:-0500
TZOFFSETTO:-0400
TZNAME:EDT
DTSTART:20270314T070000
END:DAYLIGHT
BEGIN:STANDARD
TZOFFSETFROM:-0400
TZOFFSETTO:-0500
TZNAME:EST
DTSTART:20271107T060000
END:STANDARD
END:VTIMEZONE
BEGIN:VEVENT
DTSTART;TZID=America/Toronto:20260301T083000
DTEND;TZID=America/Toronto:20260301T170000
DTSTAMP:20260421T081337
CREATED:20260227T213601Z
LAST-MODIFIED:20260227T213813Z
UID:9727-1772353800-1772384400@cac-outaouais.org
SUMMARY:Escalade de glace – Amherst
DESCRIPTION:Sortie d’escalade de glace a Amherst. Ouvert aux participants de tout les niveau qui au minimum: \n\nSavent assurer en moulinette (top rope).\nSont équipé de: casque\, harnais\, piolets\, bottes\, crampons\, dispositif pour assurer.\nSont membres en règles du club et leur ”waiver” est a jour et signé.\n\nRequis: \na. Casque\, harnais\, piolets\, bottes\, crampons\, dispositif pour assurer (ATC\, grigri\, etc.).\nb. Lunch (boisson chaude dans thermos recommandée).\nc. Linge approprié pour les conditions climatiques et pour passer la journée a l’extérieur.\nd. Lampe frontale.\ne. Fortement recommandé: lunettes de protection (lunettes de ski\, lunettes de soleil\, etc.). \nJ’aurai les cordes\, kits d’encrage et la trousse de premiers soins. Je m’occuperais d’installer les cordes (aide bienvenue évidemment). \nL’allée à la paroi se fait par la route au sommet de la paroi 100-150m dans la neige\, puis descente en rappel ou faire le tour pour aller en bas. Raquettes optionnels. \n********RV au Tim Hortons du Pont Alonzo pour 08h30 afin d’organiser le co-voiturage.********
URL:https://cac-outaouais.org/sorties/escalade-de-glace-amherst-2/
LOCATION:Ontario
END:VEVENT
BEGIN:VEVENT
DTSTART;TZID=America/Toronto:20260301T103000
DTEND;TZID=America/Toronto:20260301T123000
DTSTAMP:20260421T081337
CREATED:20260226T195722Z
LAST-MODIFIED:20260226T195950Z
UID:9721-1772361000-1772368200@cac-outaouais.org
SUMMARY:Rando en raquettes de 7 km sur l'escarpement Eardley
DESCRIPTION:Rando avec raquettes de 7 km sur l’escarpement Eardley\, dimanche le 1er mars. \nRV au coin du ch. Crégeur et du ch. de la bute. \nOn va se rendre au belvédère Tawadina pour manger.Apportez votre eau\, lunch et extra linge (il fait froid en haut) \nNiveau intermédiaire\, j’ai un pas rapide.
URL:https://cac-outaouais.org/sorties/rando-de-raquette-de-7-km/
LOCATION:chemin crégheur et chemin de la bute\, https://maps.app.goo.gl/fcWCmRHh2xNUoepc6\, Luskville\, Canada
CATEGORIES:Rando,Raquette
ATTACH;FMTTYPE=image/png:https://cac-outaouais.org/wp-content/uploads/2026/02/Screenshot-2026-02-26-at-2.44.04-PM.png
END:VEVENT
BEGIN:VEVENT
DTSTART;TZID=America/Toronto:20260303T190000
DTEND;TZID=America/Toronto:20260303T210000
DTSTAMP:20260421T081337
CREATED:20260218T160319Z
LAST-MODIFIED:20260218T160319Z
UID:9708-1772564400-1772571600@cac-outaouais.org
SUMMARY:On monte en peaux les mardis soirs à – Centre Vorlage – skin up on Tuesday nights
DESCRIPTION:(English follows below the schedule)\nRendez-vous à côté du foyer extérieur près du chalet principal à 19h. \nSorties de rando alpine\, Télémark et split board les mardis soirs à Centre Vorlage. 12 sorties sont prévues\, 6 dirigées par le Club Alpin Outaouais et 6 dirigées par la section Ottawa de l’ACC. On se rencontre près du foyer extérieur à côté du chalet principal. \nLe droit d’accès de Centre Vorlage est de $12 par soir ou une passe annuelle est $80. \nApportez vos skis de randonnée alpine ou vos skis de Télémark ou votre split board\, avec vos peaux.\n(Désolé pas d’option raquette ni bootpack ni ski Hok\, vous devez avoir des peaux amovibles.) \nOn fait les montées en groupe préférablement dans le sentier forestier\, et on fait les descentes librement pour se retrouver en bas. Bénéficiez des conseils de nos leaders et venez discuter d’autres possibilités de sorties et d’aventures plus engageantes. Nous planifions faire 2 montées à chaque soir\, soit une par la longue montée et l’autre par l’ancien t-bar (2eme montée optionelle). \nS.V.P. venez préparés sur le fonctionnement de vos bottes et fixations et la forme physique pour faire au minimum une montée\, mais on est là pour s’aider entre nous donc pas de stress\, ce n’est pas une course. \n\n\n\n\n\nDate\n\n\nJour Heure Section\n\n\nMeneur\n\n\nSerre-file\n\n\n\n\n6 janvier\n\n\nMardi 19h Outaouais\n\n\nChristian\n\n\nStéphanie\n\n\n\n\n13 janvier\n\n\nMardi 19h Ottawa\n\n\nJames\n\n\nCaitlin\n\n\n\n\n20 janvier\n\n\nMardi 19h Outaouais\n\n\nErik\n\n\nBruno\n\n\n\n\n27 janvier\n\n\nMardi 19h Ottawa\n\n\nKristen\n\n\nAndy\n\n\n\n\n3 février\n\n\nMardi 19h Outaouais\n\n\nChristian\n\n\nGeoffrey\n\n\n\n\n10 février\n\n\nMardi 19h Ottawa\n\n\nCaitlin\n\n\nJustin\n\n\n\n\n17 février\n\n\nMardi 19h Outaouais\n\n\nCindy\n\n\nChristian\n\n\n\n\n24 février\n\n\nMardi 19h Ottawa\n\n\nGeoffrey\n\n\nDerrick\n\n\n\n\n3 mars\n\n\nMardi 19h Ottawa\n\n\nAndy\n\n\nJames\n\n\n\n\n10 mars\n\n\nMardi 19h Outaouais\n\n\nDerrick\n\n\nStéphanie\n\n\n\n\n17 mars\n\n\nMardi 19h Ottawa\n\n\nKristen\n\n\nCindy\n\n\n\n\n24 mars\n\n\nMardi 19h Outaouais\n\n\nBruno\n\n\nErik\n\n\n\n\n\n\nMeet by the outdoor fireplace near the main chalet at 7pm. \nAlpine touring\, Telemark and split board outings on Tuesday evenings at Centre Vorlage. 12 outings are planned\, 6 led by the Club Alpin Outaouais and 6 led by the Ottawa section of the ACC. We meet near the outdoor fireplace next to the main chalet. \nCenter Vorlage admission is $12 per evening\, or an annual pass is $80. \nBring your alpine touring skis or Telemark skis or split board\, with skins.\n(Sorry\, no snowshoe\, bootpack or Hok ski options; you must have removable skins). \nWe climb in groups\, preferably on the forest trail\, and descend freely to meet up at the bottom. Benefit from the advice of our leaders and come along to discuss other possibilities for more engaging outings and adventures. We plan to make 2 ascents each evening\, one via the long ascent and the other via the old t-bar (2nd ascent optional). \nPlease come prepared on how to use your boots and bindings and minimal fitness to do at least one climb\, we’re here to help each other\, so don’t stress\, it’s not a race.
URL:https://cac-outaouais.org/sorties/on-monte-en-peaux-les-mardis-soirs-a-centre-vorlage-skin-up-on-tuesday-nights-22/
LOCATION:vorlage\, 65 Chemin Burnside\, Wakefield\, QC\, J0X 3G0\, Canada
CATEGORIES:Rando Alpine
ATTACH;FMTTYPE=image/jpeg:https://cac-outaouais.org/wp-content/uploads/2026/02/634753268_25947190994940858_5552558426822916303_n.jpg
END:VEVENT
BEGIN:VEVENT
DTSTART;TZID=America/Toronto:20260305T180000
DTEND;TZID=America/Toronto:20260305T200000
DTSTAMP:20260421T081337
CREATED:20260213T133547Z
LAST-MODIFIED:20260213T133715Z
UID:9693-1772733600-1772740800@cac-outaouais.org
SUMMARY:Soirée escalade - Altitude gym Gatineau
DESCRIPTION:Jeudi 05 mars 2026 – 18h00 à 20h00 \nSoirée escalade au Altitude gym Gatineau. Tous les niveaux sont les bienvenus. De la moulinette et du lead. Rendez-vous au sous-sol (annexe) à 18h00 pour former des groupes.
URL:https://cac-outaouais.org/sorties/soiree-escalade-altitude-gym-gatineau-8/
LOCATION:Altitude Gym\, 35 Boulevard Saint-Raymond\, Gatineau\, QC\, J8Y 1R5\, Canada
END:VEVENT
BEGIN:VEVENT
DTSTART;TZID=America/Toronto:20260310T190000
DTEND;TZID=America/Toronto:20260310T210000
DTSTAMP:20260421T081337
CREATED:20260218T160646Z
LAST-MODIFIED:20260309T124526Z
UID:9712-1773169200-1773176400@cac-outaouais.org
SUMMARY:On monte en peaux les mardis soirs à – Centre Vorlage – skin up on Tuesday nights
DESCRIPTION:(English follows below the schedule)\nRendez-vous à côté du foyer extérieur près du chalet principal à 19h. \nSorties de rando alpine\, Télémark et split board les mardis soirs à Centre Vorlage. 12 sorties sont prévues\, 6 dirigées par le Club Alpin Outaouais et 6 dirigées par la section Ottawa de l’ACC. On se rencontre près du foyer extérieur à côté du chalet principal. \nLe droit d’accès de Centre Vorlage est de $12 par soir ou une passe annuelle est $80. \nApportez vos skis de randonnée alpine ou vos skis de Télémark ou votre split board\, avec vos peaux.\n(Désolé pas d’option raquette ni bootpack ni ski Hok\, vous devez avoir des peaux amovibles.) \nOn fait les montées en groupe préférablement dans le sentier forestier\, et on fait les descentes librement pour se retrouver en bas. Bénéficiez des conseils de nos leaders et venez discuter d’autres possibilités de sorties et d’aventures plus engageantes. Nous planifions faire 2 montées à chaque soir\, soit une par la longue montée et l’autre par l’ancien t-bar (2eme montée optionelle). \nS.V.P. venez préparés sur le fonctionnement de vos bottes et fixations et la forme physique pour faire au minimum une montée\, mais on est là pour s’aider entre nous donc pas de stress\, ce n’est pas une course. \n\n\n\n\n\nDate\n\n\nJour Heure Section\n\n\nMeneur\n\n\nSerre-file\n\n\n\n\n6 janvier\n\n\nMardi 19h Outaouais\n\n\nChristian\n\n\nStéphanie\n\n\n\n\n13 janvier\n\n\nMardi 19h Ottawa\n\n\nJames\n\n\nCaitlin\n\n\n\n\n20 janvier\n\n\nMardi 19h Outaouais\n\n\nErik\n\n\nBruno\n\n\n\n\n27 janvier\n\n\nMardi 19h Ottawa\n\n\nKristen\n\n\nAndy\n\n\n\n\n3 février\n\n\nMardi 19h Outaouais\n\n\nChristian\n\n\nGeoffrey\n\n\n\n\n10 février\n\n\nMardi 19h Ottawa\n\n\nCaitlin\n\n\nJustin\n\n\n\n\n17 février\n\n\nMardi 19h Outaouais\n\n\nCindy\n\n\nChristian\n\n\n\n\n24 février\n\n\nMardi 19h Ottawa\n\n\nGeoffrey\n\n\nDerrick\n\n\n\n\n3 mars\n\n\nMardi 19h Ottawa\n\n\nAndy\n\n\nJames\n\n\n\n\n10 mars\n\n\nMardi 19h Outaouais\n\n\nDerrick\n\n\nStéphanie\n\n\n\n\n17 mars\n\n\nMardi 19h Ottawa\n\n\nKristen\n\n\nCindy\n\n\n\n\n24 mars\n\n\nMardi 19h Outaouais\n\n\nBruno\n\n\nErik\n\n\n\n\n\n\nMeet by the outdoor fireplace near the main chalet at 7pm. \nAlpine touring\, Telemark and split board outings on Tuesday evenings at Centre Vorlage. 12 outings are planned\, 6 led by the Club Alpin Outaouais and 6 led by the Ottawa section of the ACC. We meet near the outdoor fireplace next to the main chalet. \nCenter Vorlage admission is $12 per evening\, or an annual pass is $80. \nBring your alpine touring skis or Telemark skis or split board\, with skins.\n(Sorry\, no snowshoe\, bootpack or Hok ski options; you must have removable skins). \nWe climb in groups\, preferably on the forest trail\, and descend freely to meet up at the bottom. Benefit from the advice of our leaders and come along to discuss other possibilities for more engaging outings and adventures. We plan to make 2 ascents each evening\, one via the long ascent and the other via the old t-bar (2nd ascent optional). \nPlease come prepared on how to use your boots and bindings and minimal fitness to do at least one climb\, we’re here to help each other\, so don’t stress\, it’s not a race.
URL:https://cac-outaouais.org/sorties/on-monte-en-peaux-les-mardis-soirs-a-centre-vorlage-skin-up-on-tuesday-nights-23/
LOCATION:vorlage\, 65 Chemin Burnside\, Wakefield\, QC\, J0X 3G0\, Canada
CATEGORIES:Rando Alpine
END:VEVENT
BEGIN:VEVENT
DTSTART;TZID=America/Toronto:20260317T190000
DTEND;TZID=America/Toronto:20260317T210000
DTSTAMP:20260421T081337
CREATED:20260218T161122Z
LAST-MODIFIED:20260218T161122Z
UID:9714-1773774000-1773781200@cac-outaouais.org
SUMMARY:On monte en peaux les mardis soirs à – Centre Vorlage – skin up on Tuesday nights
DESCRIPTION:(English follows below the schedule)\nRendez-vous à côté du foyer extérieur près du chalet principal à 19h. \nSorties de rando alpine\, Télémark et split board les mardis soirs à Centre Vorlage. 12 sorties sont prévues\, 6 dirigées par le Club Alpin Outaouais et 6 dirigées par la section Ottawa de l’ACC. On se rencontre près du foyer extérieur à côté du chalet principal. \nLe droit d’accès de Centre Vorlage est de $12 par soir ou une passe annuelle est $80. \nApportez vos skis de randonnée alpine ou vos skis de Télémark ou votre split board\, avec vos peaux.\n(Désolé pas d’option raquette ni bootpack ni ski Hok\, vous devez avoir des peaux amovibles.) \nOn fait les montées en groupe préférablement dans le sentier forestier\, et on fait les descentes librement pour se retrouver en bas. Bénéficiez des conseils de nos leaders et venez discuter d’autres possibilités de sorties et d’aventures plus engageantes. Nous planifions faire 2 montées à chaque soir\, soit une par la longue montée et l’autre par l’ancien t-bar (2eme montée optionelle). \nS.V.P. venez préparés sur le fonctionnement de vos bottes et fixations et la forme physique pour faire au minimum une montée\, mais on est là pour s’aider entre nous donc pas de stress\, ce n’est pas une course. \n\n\n\n\n\nDate\n\n\nJour Heure Section\n\n\nMeneur\n\n\nSerre-file\n\n\n\n\n6 janvier\n\n\nMardi 19h Outaouais\n\n\nChristian\n\n\nStéphanie\n\n\n\n\n13 janvier\n\n\nMardi 19h Ottawa\n\n\nJames\n\n\nCaitlin\n\n\n\n\n20 janvier\n\n\nMardi 19h Outaouais\n\n\nErik\n\n\nBruno\n\n\n\n\n27 janvier\n\n\nMardi 19h Ottawa\n\n\nKristen\n\n\nAndy\n\n\n\n\n3 février\n\n\nMardi 19h Outaouais\n\n\nChristian\n\n\nGeoffrey\n\n\n\n\n10 février\n\n\nMardi 19h Ottawa\n\n\nCaitlin\n\n\nJustin\n\n\n\n\n17 février\n\n\nMardi 19h Outaouais\n\n\nCindy\n\n\nChristian\n\n\n\n\n24 février\n\n\nMardi 19h Ottawa\n\n\nGeoffrey\n\n\nDerrick\n\n\n\n\n3 mars\n\n\nMardi 19h Ottawa\n\n\nAndy\n\n\nJames\n\n\n\n\n10 mars\n\n\nMardi 19h Outaouais\n\n\nDerrick\n\n\nStéphanie\n\n\n\n\n17 mars\n\n\nMardi 19h Ottawa\n\n\nKristen\n\n\nCindy\n\n\n\n\n24 mars\n\n\nMardi 19h Outaouais\n\n\nBruno\n\n\nErik\n\n\n\n\n\n\nMeet by the outdoor fireplace near the main chalet at 7pm. \nAlpine touring\, Telemark and split board outings on Tuesday evenings at Centre Vorlage. 12 outings are planned\, 6 led by the Club Alpin Outaouais and 6 led by the Ottawa section of the ACC. We meet near the outdoor fireplace next to the main chalet. \nCenter Vorlage admission is $12 per evening\, or an annual pass is $80. \nBring your alpine touring skis or Telemark skis or split board\, with skins.\n(Sorry\, no snowshoe\, bootpack or Hok ski options; you must have removable skins). \nWe climb in groups\, preferably on the forest trail\, and descend freely to meet up at the bottom. Benefit from the advice of our leaders and come along to discuss other possibilities for more engaging outings and adventures. We plan to make 2 ascents each evening\, one via the long ascent and the other via the old t-bar (2nd ascent optional). \nPlease come prepared on how to use your boots and bindings and minimal fitness to do at least one climb\, we’re here to help each other\, so don’t stress\, it’s not a race.
URL:https://cac-outaouais.org/sorties/on-monte-en-peaux-les-mardis-soirs-a-centre-vorlage-skin-up-on-tuesday-nights-24/
LOCATION:vorlage\, 65 Chemin Burnside\, Wakefield\, QC\, J0X 3G0\, Canada
CATEGORIES:Rando Alpine
ATTACH;FMTTYPE=image/jpeg:https://cac-outaouais.org/wp-content/uploads/2026/02/634753268_25947190994940858_5552558426822916303_n.jpg
END:VEVENT
BEGIN:VEVENT
DTSTART;TZID=America/Toronto:20260318T173000
DTEND;TZID=America/Toronto:20260318T210000
DTSTAMP:20260421T081337
CREATED:20260224T155753Z
LAST-MODIFIED:20260224T155753Z
UID:9716-1773855000-1773867600@cac-outaouais.org
SUMMARY:Escalade de bloc – Bloc 9.81 - tarif réduit pour les membres
DESCRIPTION:Le 18 mars à 17h30\, les membres sont invités chez Bloc 9.81 pour une soirée de bloc à 12$ seulement.  \nTous les membres sont les bienvenus pour profiter d’une belle soirée de grimpe! \n\nBloc 9.81 offre maintenant aux membres du club un tarif de 12 $ le troisième mercredi de chaque mois. \n\n\n\nPrenez note que les membres peuvent grimper à n’importe quel moment durant cette journée pour seulement 12 $. Il suffit de présenter votre carte de membre à l’accueil au moment du paiement afin de bénéficier du tarif.
URL:https://cac-outaouais.org/sorties/escalade-de-bloc-bloc-9-81-tarif-reduit-pour-les-membres/
LOCATION:bloc 9.81\, 79 blv de la gappe\, Gatineau\, Québec\, Canada
CATEGORIES:Escalade,Social
ATTACH;FMTTYPE=image/jpeg:https://cac-outaouais.org/wp-content/uploads/2026/02/bloc-9.81-promo.jpg
END:VEVENT
BEGIN:VEVENT
DTSTART;TZID=America/Toronto:20260319T180000
DTEND;TZID=America/Toronto:20260319T200000
DTSTAMP:20260421T081337
CREATED:20260213T134000Z
LAST-MODIFIED:20260319T163737Z
UID:9695-1773943200-1773950400@cac-outaouais.org
SUMMARY:ANNULÉ /// Soirée escalade - Altitude gym Gatineau
DESCRIPTION:Jeudi 19 mars 2026 – 18h00 à 20h00 \nSoirée escalade au Altitude gym Gatineau. Tous les niveaux sont les bienvenus. De la moulinette et du lead. Rendez-vous au sous-sol (annexe) à 18h00 pour former des groupes.
URL:https://cac-outaouais.org/sorties/soiree-escalade-altitude-gym-gatineau-9/
LOCATION:Altitude Gym\, 35 Boulevard Saint-Raymond\, Gatineau\, QC\, J8Y 1R5\, Canada
END:VEVENT
BEGIN:VEVENT
DTSTART;TZID=America/Toronto:20260324T173000
DTEND;TZID=America/Toronto:20260324T190000
DTSTAMP:20260421T081337
CREATED:20260319T125102Z
LAST-MODIFIED:20260323T202515Z
UID:9751-1774373400-1774378800@cac-outaouais.org
SUMMARY:On monte en peaux les mardis soirs à – Centre Vorlage – skin up on Tuesday nights
DESCRIPTION:(English follows below the schedule)\nRendez-vous à côté du foyer extérieur près du chalet principal à 17h30. \nSorties de rando alpine\, Télémark et split board les mardis soirs à Centre Vorlage. 12 sorties sont prévues\, 6 dirigées par le Club Alpin Outaouais et 6 dirigées par la section Ottawa de l’ACC. On se rencontre près du foyer extérieur à côté du chalet principal. \nLe droit d’accès de Centre Vorlage est de $12 par soir ou une passe annuelle est $80. \nApportez vos skis de randonnée alpine ou vos skis de Télémark ou votre split board\, avec vos peaux.\n(Désolé pas d’option raquette ni bootpack ni ski Hok\, vous devez avoir des peaux amovibles.) \nOn fait les montées en groupe préférablement dans le sentier forestier\, et on fait les descentes librement pour se retrouver en bas. Bénéficiez des conseils de nos leaders et venez discuter d’autres possibilités de sorties et d’aventures plus engageantes. Nous planifions faire 2 montées à chaque soir\, soit une par la longue montée et l’autre par l’ancien t-bar (2eme montée optionelle). \nS.V.P. venez préparés sur le fonctionnement de vos bottes et fixations et la forme physique pour faire au minimum une montée\, mais on est là pour s’aider entre nous donc pas de stress\, ce n’est pas une course. \n\n\n\n\n\nDate\n\n\nJour Heure Section\n\n\nMeneur\n\n\nSerre-file\n\n\n\n\n6 janvier\n\n\nMardi 19h Outaouais\n\n\nChristian\n\n\nStéphanie\n\n\n\n\n13 janvier\n\n\nMardi 19h Ottawa\n\n\nJames\n\n\nCaitlin\n\n\n\n\n20 janvier\n\n\nMardi 19h Outaouais\n\n\nErik\n\n\nBruno\n\n\n\n\n27 janvier\n\n\nMardi 19h Ottawa\n\n\nKristen\n\n\nAndy\n\n\n\n\n3 février\n\n\nMardi 19h Outaouais\n\n\nChristian\n\n\nGeoffrey\n\n\n\n\n10 février\n\n\nMardi 19h Ottawa\n\n\nCaitlin\n\n\nJustin\n\n\n\n\n17 février\n\n\nMardi 19h Outaouais\n\n\nCindy\n\n\nChristian\n\n\n\n\n24 février\n\n\nMardi 19h Ottawa\n\n\nGeoffrey\n\n\nDerrick\n\n\n\n\n3 mars\n\n\nMardi 19h Ottawa\n\n\nAndy\n\n\nJames\n\n\n\n\n10 mars\n\n\nMardi 19h Outaouais\n\n\nDerrick\n\n\nStéphanie\n\n\n\n\n17 mars\n\n\nMardi 19h Ottawa\n\n\nKristen\n\n\nCindy\n\n\n\n\n24 mars\n\n\nMardi 17h30 Outaouais\n\n\nErik\n\n\nChristian\n\n\n\n\n\n\nMeet by the outdoor fireplace near the main chalet at 5:30pm. \nAlpine touring\, Telemark and split board outings on Tuesday evenings at Centre Vorlage. 12 outings are planned\, 6 led by the Club Alpin Outaouais and 6 led by the Ottawa section of the ACC. We meet near the outdoor fireplace next to the main chalet. \nCenter Vorlage admission is $12 per evening\, or an annual pass is $80. \nBring your alpine touring skis or Telemark skis or split board\, with skins.\n(Sorry\, no snowshoe\, bootpack or Hok ski options; you must have removable skins). \nWe climb in groups\, preferably on the forest trail\, and descend freely to meet up at the bottom. Benefit from the advice of our leaders and come along to discuss other possibilities for more engaging outings and adventures. We plan to make 2 ascents each evening\, one via the long ascent and the other via the old t-bar (2nd ascent optional). \nPlease come prepared on how to use your boots and bindings and minimal fitness to do at least one climb\, we’re here to help each other\, so don’t stress\, it’s not a race.
URL:https://cac-outaouais.org/sorties/on-monte-en-peaux-les-mardis-soirs-a-centre-vorlage-skin-up-on-tuesday-nights-25/
LOCATION:vorlage\, 65 Chemin Burnside\, Wakefield\, QC\, J0X 3G0\, Canada
CATEGORIES:Rando Alpine
ATTACH;FMTTYPE=image/jpeg:https://cac-outaouais.org/wp-content/uploads/2026/03/652991456_26213278224998799_5011942453522734113_n.jpg
END:VEVENT
BEGIN:VEVENT
DTSTART;TZID=America/Toronto:20260329T090000
DTEND;TZID=America/Toronto:20260329T170000
DTSTAMP:20260421T081337
CREATED:20260326T234322Z
LAST-MODIFIED:20260326T234322Z
UID:9767-1774774800-1774803600@cac-outaouais.org
SUMMARY:Escalade de glace au lac McLaurin
DESCRIPTION:Les conditions sont encore bonnes\, c’est vraiment une belle année pour l’escalade de glace! En plus on annonce un confortable +3 Celsius dimanche dans le coin du lac McLaurin\, ce qui donnera de la belle glace plastique facile à grimper.  Alors profitons-en! \nSortie d’escalade de glace \nPré-requis: \n\navoir déjà fait de l’escalade de glace\nsavoir assurer avec ATC\navoir des bottes appropriées\nêtre à l’aise de marcher 2.5 km aller\, 2.5 km retour sur un sentier de motoneige.\n\nOù: \n\nLac McLaurin\, près du lac du Poisson Blanc\, à 1 heure de route au nord de Gatineau\nPoint de rencontre pour co-voiturage: 9h00 AM au stationnement Super C Limbour\, à l’arrière de l’épicerie. C’est là que je vous attendrai\, je peux prendre 3 passagers.\nDestination: Stationnement de la rampe à bateau du lac du Poisson Blanc 10h00 AM\nPuis nous marcherons 45 minutes sur un sentier de motoneige pour accéder à la cascade de glace.\nRetour prévu à Gatineau vers 17h-18h\n\nApporter: \n\nSac à dos assez grand pour transporter aussi une corde\nMatériel d’escalade (harnais\, casques\, piolets\, crampons\, ATC\nLinge approprié pour passer la journée dehors\nLunettes de soleil ou de protection contre les éclats de glace\nlunch\, eau\, thermos de thé\nlampe frontale\nDes micro-crampons pourraient être utiles pour la marche\, selon les conditions\n\nJ’aurai les cordes du club et des kits d’ancrage. Le club peut prêter crampons\, casques\, piolets si nécessaire. Contacter François si vous avez besoin de qq chose. \nVoici le trajet approximatif que nous allons faire à pied. Raquettes non nécessaires.
URL:https://cac-outaouais.org/sorties/escalade-de-glace-au-lac-mclaurin/
LOCATION:Glace lac Poisson Blanc\, 32 Chemin de la Base de Plein Air\, Bowman\, Québec\, Canada
CATEGORIES:Escalade de Glace
ATTACH;FMTTYPE=image/jpeg:https://cac-outaouais.org/wp-content/uploads/2019/11/IMG_0132-2.jpg
END:VEVENT
END:VCALENDAR