BEGIN:VCALENDAR
VERSION:2.0
PRODID:-//CAC-Outaouais - ECPv6.15.20//NONSGML v1.0//EN
CALSCALE:GREGORIAN
METHOD:PUBLISH
X-WR-CALNAME:CAC-Outaouais
X-ORIGINAL-URL:https://cac-outaouais.org
X-WR-CALDESC:Événements pour CAC-Outaouais
REFRESH-INTERVAL;VALUE=DURATION:PT1H
X-Robots-Tag:noindex
X-PUBLISHED-TTL:PT1H
BEGIN:VTIMEZONE
TZID:America/Toronto
BEGIN:DAYLIGHT
TZOFFSETFROM:-0500
TZOFFSETTO:-0400
TZNAME:EDT
DTSTART:20250309T070000
END:DAYLIGHT
BEGIN:STANDARD
TZOFFSETFROM:-0400
TZOFFSETTO:-0500
TZNAME:EST
DTSTART:20251102T060000
END:STANDARD
BEGIN:DAYLIGHT
TZOFFSETFROM:-0500
TZOFFSETTO:-0400
TZNAME:EDT
DTSTART:20260308T070000
END:DAYLIGHT
BEGIN:STANDARD
TZOFFSETFROM:-0400
TZOFFSETTO:-0500
TZNAME:EST
DTSTART:20261101T060000
END:STANDARD
BEGIN:DAYLIGHT
TZOFFSETFROM:-0500
TZOFFSETTO:-0400
TZNAME:EDT
DTSTART:20270314T070000
END:DAYLIGHT
BEGIN:STANDARD
TZOFFSETFROM:-0400
TZOFFSETTO:-0500
TZNAME:EST
DTSTART:20271107T060000
END:STANDARD
END:VTIMEZONE
BEGIN:VEVENT
DTSTART;TZID=America/Toronto:20260203T190000
DTEND;TZID=America/Toronto:20260203T213000
DTSTAMP:20260421T095330
CREATED:20260105T231949Z
LAST-MODIFIED:20260105T231949Z
UID:9606-1770145200-1770154200@cac-outaouais.org
SUMMARY:On monte en peaux les mardis soirs à – Centre Vorlage – skin up on Tuesday nights
DESCRIPTION:(English follows below the schedule)\nRendez-vous à côté du foyer extérieur près du chalet principal à 19h. \nSorties de rando alpine\, Télémark et split board les mardis soirs à Centre Vorlage. 12 sorties sont prévues\, 6 dirigées par le Club Alpin Outaouais et 6 dirigées par la section Ottawa de l’ACC. On se rencontre près du foyer extérieur à côté du chalet principal. \nLe droit d’accès de Centre Vorlage est de $10 par soir ou une passe annuelle est $80. \nApportez vos skis de randonnée alpine ou vos skis de Télémark ou votre split board\, avec vos peaux.\n(Désolé pas d’option raquette ni bootpack ni ski Hok\, vous devez avoir des peaux amovibles.) \nOn fait les montées en groupe préférablement dans le sentier forestier\, et on fait les descentes librement pour se retrouver en bas. Bénéficiez des conseils de nos leaders et venez discuter d’autres possibilités de sorties et d’aventures plus engageantes. Nous planifions faire 2 montées à chaque soir\, soit une par la longue montée et l’autre par l’ancien t-bar (2eme montée optionelle). \nS.V.P. venez préparés sur le fonctionnement de vos bottes et fixations et la forme physique pour faire au minimum une montée\, mais on est là pour s’aider entre nous donc pas de stress\, ce n’est pas une course. \n\n\n\n\n\nDate\n\n\nJour Heure Section\n\n\nMeneur\n\n\nSerre-file\n\n\n\n\n6 janvier\n\n\nMardi 19h Outaouais\n\n\nChristian\n\n\nStéphanie\n\n\n\n\n13 janvier\n\n\nMardi 19h Ottawa\n\n\nJames\n\n\nCaitlin\n\n\n\n\n20 janvier\n\n\nMardi 19h Outaouais\n\n\nErik\n\n\nBruno\n\n\n\n\n27 janvier\n\n\nMardi 19h Ottawa\n\n\nKristen\n\n\nAndy\n\n\n\n\n3 février\n\n\nMardi 19h Outaouais\n\n\nChristian\n\n\nGeoffrey\n\n\n\n\n10 février\n\n\nMardi 19h Ottawa\n\n\nCaitlin\n\n\nJustin\n\n\n\n\n17 février\n\n\nMardi 19h Outaouais\n\n\nCindy\n\n\nChristian\n\n\n\n\n24 février\n\n\nMardi 19h Ottawa\n\n\nGeoffrey\n\n\nDerrick\n\n\n\n\n3 mars\n\n\nMardi 19h Ottawa\n\n\nAndy\n\n\nJames\n\n\n\n\n10 mars\n\n\nMardi 19h Outaouais\n\n\nDerrick\n\n\nStéphanie\n\n\n\n\n17 mars\n\n\nMardi 19h Ottawa\n\n\nKristen\n\n\nCindy\n\n\n\n\n24 mars\n\n\nMardi 19h Outaouais\n\n\nBruno\n\n\nErik\n\n\n\n\n\n\nMeet by the outdoor fireplace near the main chalet at 6pm. \nAlpine touring\, Telemark and split board outings on Tuesday evenings at Centre Vorlage. 12 outings are planned\, 6 led by the Club Alpin Outaouais and 6 led by the Ottawa section of the ACC. We meet near the outdoor fireplace next to the main chalet. \nCenter Vorlage admission is $10 per evening\, or an annual pass is $80. \nBring your alpine touring skis or Telemark skis or split board\, with skins.\n(Sorry\, no snowshoe\, bootpack or Hok ski options; you must have removable skins). \nWe climb in groups\, preferably on the forest trail\, and descend freely to meet up at the bottom. Benefit from the advice of our leaders and come along to discuss other possibilities for more engaging outings and adventures. We plan to make 2 ascents each evening\, one via the long ascent and the other via the old t-bar (2nd ascent optional). \nPlease come prepared on how to use your boots and bindings and minimal fitness to do at least one climb\, we’re here to help each other\, so don’t stress\, it’s not a race.
URL:https://cac-outaouais.org/sorties/on-monte-en-peaux-les-mardis-soirs-a-centre-vorlage-skin-up-on-tuesday-nights-18/
LOCATION:vorlage\, 65 Chemin Burnside\, Wakefield\, QC\, J0X 3G0\, Canada
CATEGORIES:Rando Alpine
ATTACH;FMTTYPE=image/jpeg:https://cac-outaouais.org/wp-content/uploads/2024/12/original1.P1250519-scaled.jpg
END:VEVENT
BEGIN:VEVENT
DTSTART;TZID=America/Toronto:20260210T190000
DTEND;TZID=America/Toronto:20260210T213000
DTSTAMP:20260421T095330
CREATED:20260105T232304Z
LAST-MODIFIED:20260210T222216Z
UID:9608-1770750000-1770759000@cac-outaouais.org
SUMMARY:On monte en peaux les mardis soirs à – Centre Vorlage – skin up on Tuesday nights
DESCRIPTION:(English follows below the schedule)\nRendez-vous à côté du foyer extérieur près du chalet principal à 19h. \nSorties de rando alpine\, Télémark et split board les mardis soirs à Centre Vorlage. 12 sorties sont prévues\, 6 dirigées par le Club Alpin Outaouais et 6 dirigées par la section Ottawa de l’ACC. On se rencontre près du foyer extérieur à côté du chalet principal. \nLe droit d’accès de Centre Vorlage est de $10 par soir ou une passe annuelle est $80. \nApportez vos skis de randonnée alpine ou vos skis de Télémark ou votre split board\, avec vos peaux.\n(Désolé pas d’option raquette ni bootpack ni ski Hok\, vous devez avoir des peaux amovibles.) \nOn fait les montées en groupe préférablement dans le sentier forestier\, et on fait les descentes librement pour se retrouver en bas. Bénéficiez des conseils de nos leaders et venez discuter d’autres possibilités de sorties et d’aventures plus engageantes. Nous planifions faire 2 montées à chaque soir\, soit une par la longue montée et l’autre par l’ancien t-bar (2eme montée optionelle). \nS.V.P. venez préparés sur le fonctionnement de vos bottes et fixations et la forme physique pour faire au minimum une montée\, mais on est là pour s’aider entre nous donc pas de stress\, ce n’est pas une course. \n\n\n\n\n\nDate\n\n\nJour Heure Section\n\n\nMeneur\n\n\nSerre-file\n\n\n\n\n6 janvier\n\n\nMardi 19h Outaouais\n\n\nChristian\n\n\nStéphanie\n\n\n\n\n13 janvier\n\n\nMardi 19h Ottawa\n\n\nJames\n\n\nCaitlin\n\n\n\n\n20 janvier\n\n\nMardi 19h Outaouais\n\n\nErik\n\n\nBruno\n\n\n\n\n27 janvier\n\n\nMardi 19h Ottawa\n\n\nKristen\n\n\nAndy\n\n\n\n\n3 février\n\n\nMardi 19h Outaouais\n\n\nChristian\n\n\nGeoffrey\n\n\n\n\n10 février\n\n\nMardi 19h Ottawa\n\n\nCaitlin\n\n\nJustin\n\n\n\n\n17 février\n\n\nMardi 19h Outaouais\n\n\nCindy\n\n\nChristian\n\n\n\n\n24 février\n\n\nMardi 19h Ottawa\n\n\nGeoffrey\n\n\nDerrick\n\n\n\n\n3 mars\n\n\nMardi 19h Ottawa\n\n\nAndy\n\n\nJames\n\n\n\n\n10 mars\n\n\nMardi 19h Outaouais\n\n\nDerrick\n\n\nStéphanie\n\n\n\n\n17 mars\n\n\nMardi 19h Ottawa\n\n\nKristen\n\n\nCindy\n\n\n\n\n24 mars\n\n\nMardi 19h Outaouais\n\n\nBruno\n\n\nErik\n\n\n\n\n\n\nMeet by the outdoor fireplace near the main chalet at 7pm. \nAlpine touring\, Telemark and split board outings on Tuesday evenings at Centre Vorlage. 12 outings are planned\, 6 led by the Club Alpin Outaouais and 6 led by the Ottawa section of the ACC. We meet near the outdoor fireplace next to the main chalet. \nCenter Vorlage admission is $10 per evening\, or an annual pass is $80. \nBring your alpine touring skis or Telemark skis or split board\, with skins.\n(Sorry\, no snowshoe\, bootpack or Hok ski options; you must have removable skins). \nWe climb in groups\, preferably on the forest trail\, and descend freely to meet up at the bottom. Benefit from the advice of our leaders and come along to discuss other possibilities for more engaging outings and adventures. We plan to make 2 ascents each evening\, one via the long ascent and the other via the old t-bar (2nd ascent optional). \nPlease come prepared on how to use your boots and bindings and minimal fitness to do at least one climb\, we’re here to help each other\, so don’t stress\, it’s not a race.
URL:https://cac-outaouais.org/sorties/on-monte-en-peaux-les-mardis-soirs-a-centre-vorlage-skin-up-on-tuesday-nights-19/
LOCATION:vorlage\, 65 Chemin Burnside\, Wakefield\, QC\, J0X 3G0\, Canada
CATEGORIES:Rando Alpine
ATTACH;FMTTYPE=image/jpeg:https://cac-outaouais.org/wp-content/uploads/2024/12/original1.P1250519-scaled.jpg
END:VEVENT
BEGIN:VEVENT
DTSTART;TZID=America/Toronto:20260212T180000
DTEND;TZID=America/Toronto:20260212T200000
DTSTAMP:20260421T095330
CREATED:20260129T153945Z
LAST-MODIFIED:20260129T154200Z
UID:9674-1770919200-1770926400@cac-outaouais.org
SUMMARY:Soirée escalade – Altitude gym Gatineau
DESCRIPTION:Jeudi 12 janvier 2026 – 18h00 à 20h00 \nSoirée escalade au Altitude gym Gatineau. Tous les niveaux sont les bienvenus. De la moulinette et du lead. Rendez-vous au sous-sol à 18h00 pour former des groupes.
URL:https://cac-outaouais.org/sorties/soiree-escalade-altitude-gym-gatineau-7/
LOCATION:Altitude Gym\, 35 Boulevard Saint-Raymond\, Gatineau\, QC\, J8Y 1R5\, Canada
END:VEVENT
BEGIN:VEVENT
DTSTART;TZID=America/Toronto:20260213T083000
DTEND;TZID=America/Toronto:20260213T153000
DTSTAMP:20260421T095330
CREATED:20260209T031503Z
LAST-MODIFIED:20260211T150735Z
UID:9677-1770971400-1770996600@cac-outaouais.org
SUMMARY:Traverse Hollow-Glen Kingsway rando alpine / Télémark / Split board & mono.
DESCRIPTION:La traverse comprends des sections de montée en peau\, des sections de montée boot-back\, et des descentes de niveaux intermédaires avec enneigement naturel. Inclu le sommet du mont Hollow-Glen\, le sommet du Mont King ainsi que le sommet du mont Lauriault. Quelques descentes se feront dans l’ancien centre de ski Beamish\, mais toutes les descentes se feront dans du hors pistes boisé\, donc soyez confiants en vos compétences de skieur intermédiaire en sous-bois. Comptez faire au moins 1000m de dénivelé pendant la journée. Apportez votre lunch et vos vêtements multi-couches ansi que votre sac de rando. L’équipement d’avalanche est optionnel mais recommandé. Planches de glisse avec peaux amovibles seulement (donc pas de skis-hoks et pas de raquettes). Apportez une frontale on sait jamais. Rendez-vous au restaurant Alpina à 8h30 vendredi matin.
URL:https://cac-outaouais.org/sorties/traverse-hollow-glen-kingsway-rando-alpine-telemark-split-board-mono/
LOCATION:Alpina\, 1189 Montagne\, Gatineau\, Québec\, J9J3S2\, Canada
CATEGORIES:Rando Alpine,Ski
ATTACH;FMTTYPE=image/jpeg:https://cac-outaouais.org/wp-content/uploads/2026/02/488833479_9545191428900741_9096304907268003731_n.jpg
END:VEVENT
BEGIN:VEVENT
DTSTART;TZID=America/Toronto:20260215T083000
DTEND;TZID=America/Toronto:20260215T170000
DTSTAMP:20260421T095330
CREATED:20260212T161144Z
LAST-MODIFIED:20260212T161144Z
UID:9689-1771144200-1771174800@cac-outaouais.org
SUMMARY:Escalade de Glace Montagne d'Argent 15 Fév.
DESCRIPTION:Sortie originalement organisée pour la section Ottawa\, mais une seule inscription a ce jour. Je l’ouvre donc a la section Outaouais aussi. \nL’intention est d’être la-bas pour 8h30am et quitter a 17hrs. \n  \nLes participants doivent savoir assurer en moulinette avec des gants\, être a jour pour la signature de la décharge et leur ”membership” puis posseder l’équipment essentiel (casque\, harnais\, ATC\, bottes\, crampons\, piolets). \n5 places disponibles. \n\n  \n\n\n\n\nIce climbing trip: La Montagne d’Argent\, Saturday Feb. 15. \nThis trip is open to all levels providing:\n1. You are in good standing with the ACC – your membership and ACC waivers are up to date.\n2. You can Top Rope belay with winter gloves/mitts.\n3. You Have basic ice climbing gear (harness\, belay device\, ice tools\, boots\, crampons\, helmet). \nPersonal gear required for this trip:\na. Harness\, belay device\, ice tools\, boots\, crampons\, helmet.\nb. Lunch (recommend hot drink in thermos).\nc. Appropriate clothing to spend the day outside.\nd. Headlamp.\ne. Protective eyewear (optional but highly recommended).\nf.  Snowshoes and poles (poles optional) for going out to the Lake crag. \nClub gear (provided):\n1. Ropes and anchor gear\n2. First aid kit. \nDriving time to Montagne d’Argent from Ottawa is around 1h45-2hrs. \nWe will be starting the day on Paradis Artificiel before the local climbing schools’ climbing classes start (10min hike from registration office) and then we’ll move to the Lake crag which takes about 20 minutes to get to. The trail may not be packed so bring snowshoes just in case. If we don’t need them we can stash them by the registration office and pick them up at the end of the day.\nModerate fitness level required. \nTimings:\n8:30am: meetup at Montagne d’Argent.\n5pm: latest departure time from Lake crag. \nMax amount of participants: \nTrip leaders: Eric Lesage-Seguin \nSend an email to Eric with proof of membership and signed waiver to register: \nA  Messenger group chat will be created to coord carpooling.
URL:https://cac-outaouais.org/sorties/escalade-de-glace-montagne-dargent-15-fev/
LOCATION:Montagne d’Argent\, 1000 Rue de la Montagne d'Argent\, La Conception\, Quebec\, J0T1M0\, Canada
CATEGORIES:Escalade de Glace
END:VEVENT
BEGIN:VEVENT
DTSTART;TZID=America/Toronto:20260216T100000
DTEND;TZID=America/Toronto:20260216T150000
DTSTAMP:20260421T095330
CREATED:20260214T153514Z
LAST-MODIFIED:20260214T153514Z
UID:9697-1771236000-1771254000@cac-outaouais.org
SUMMARY:Intro Caltopo rando alpine Telemark splitboard air eau bois
DESCRIPTION:Apportez votre cellulaire avec caltopo dessus vos équipements de glisseet ascention. Sac\, lunch et frontale. Kit avalanche optionel. Adésion FQME requise.
URL:https://cac-outaouais.org/sorties/intro-caltopo-rando-alpine-telemark-splitboard-air-eau-bois/
LOCATION:Air-Eau-Bois\, 32 Chemin de la Base de Plein Air\, Denholm\, Québec\, QC J8N 9P6\, Canada
CATEGORIES:Rando Alpine
ATTACH;FMTTYPE=image/jpeg:https://cac-outaouais.org/wp-content/uploads/2024/12/original1.P1250519-scaled.jpg
END:VEVENT
BEGIN:VEVENT
DTSTART;TZID=America/Toronto:20260217T190000
DTEND;TZID=America/Toronto:20260217T213000
DTSTAMP:20260421T095330
CREATED:20260105T232654Z
LAST-MODIFIED:20260210T222347Z
UID:9610-1771354800-1771363800@cac-outaouais.org
SUMMARY:On monte en peaux les mardis soirs à – Centre Vorlage – skin up on Tuesday nights
DESCRIPTION:(English follows below the schedule)\nRendez-vous à côté du foyer extérieur près du chalet principal à 19h. \nSorties de rando alpine\, Télémark et split board les mardis soirs à Centre Vorlage. 12 sorties sont prévues\, 6 dirigées par le Club Alpin Outaouais et 6 dirigées par la section Ottawa de l’ACC. On se rencontre près du foyer extérieur à côté du chalet principal. \nLe droit d’accès de Centre Vorlage est de $10 par soir ou une passe annuelle est $80. \nApportez vos skis de randonnée alpine ou vos skis de Télémark ou votre split board\, avec vos peaux.\n(Désolé pas d’option raquette ni bootpack ni ski Hok\, vous devez avoir des peaux amovibles.) \nOn fait les montées en groupe préférablement dans le sentier forestier\, et on fait les descentes librement pour se retrouver en bas. Bénéficiez des conseils de nos leaders et venez discuter d’autres possibilités de sorties et d’aventures plus engageantes. Nous planifions faire 2 montées à chaque soir\, soit une par la longue montée et l’autre par l’ancien t-bar (2eme montée optionelle). \nS.V.P. venez préparés sur le fonctionnement de vos bottes et fixations et la forme physique pour faire au minimum une montée\, mais on est là pour s’aider entre nous donc pas de stress\, ce n’est pas une course. \n\n\n\n\n\nDate\n\n\nJour Heure Section\n\n\nMeneur\n\n\nSerre-file\n\n\n\n\n6 janvier\n\n\nMardi 19h Outaouais\n\n\nChristian\n\n\nStéphanie\n\n\n\n\n13 janvier\n\n\nMardi 19h Ottawa\n\n\nJames\n\n\nCaitlin\n\n\n\n\n20 janvier\n\n\nMardi 19h Outaouais\n\n\nErik\n\n\nBruno\n\n\n\n\n27 janvier\n\n\nMardi 19h Ottawa\n\n\nKristen\n\n\nAndy\n\n\n\n\n3 février\n\n\nMardi 19h Outaouais\n\n\nChristian\n\n\nGeoffrey\n\n\n\n\n10 février\n\n\nMardi 19h Ottawa\n\n\nCaitlin\n\n\nJustin\n\n\n\n\n17 février\n\n\nMardi 19h Outaouais\n\n\nCindy\n\n\nChristian\n\n\n\n\n24 février\n\n\nMardi 19h Ottawa\n\n\nGeoffrey\n\n\nDerrick\n\n\n\n\n3 mars\n\n\nMardi 19h Ottawa\n\n\nAndy\n\n\nJames\n\n\n\n\n10 mars\n\n\nMardi 19h Outaouais\n\n\nDerrick\n\n\nStéphanie\n\n\n\n\n17 mars\n\n\nMardi 19h Ottawa\n\n\nKristen\n\n\nCindy\n\n\n\n\n24 mars\n\n\nMardi 19h Outaouais\n\n\nBruno\n\n\nErik\n\n\n\n\n\n\nMeet by the outdoor fireplace near the main chalet at 7pm. \nAlpine touring\, Telemark and split board outings on Tuesday evenings at Centre Vorlage. 12 outings are planned\, 6 led by the Club Alpin Outaouais and 6 led by the Ottawa section of the ACC. We meet near the outdoor fireplace next to the main chalet. \nCenter Vorlage admission is $10 per evening\, or an annual pass is $80. \nBring your alpine touring skis or Telemark skis or split board\, with skins.\n(Sorry\, no snowshoe\, bootpack or Hok ski options; you must have removable skins). \nWe climb in groups\, preferably on the forest trail\, and descend freely to meet up at the bottom. Benefit from the advice of our leaders and come along to discuss other possibilities for more engaging outings and adventures. We plan to make 2 ascents each evening\, one via the long ascent and the other via the old t-bar (2nd ascent optional). \nPlease come prepared on how to use your boots and bindings and minimal fitness to do at least one climb\, we’re here to help each other\, so don’t stress\, it’s not a race.
URL:https://cac-outaouais.org/sorties/on-monte-en-peaux-les-mardis-soirs-a-centre-vorlage-skin-up-on-tuesday-nights-20/
LOCATION:vorlage\, 65 Chemin Burnside\, Wakefield\, QC\, J0X 3G0\, Canada
CATEGORIES:Rando Alpine
ATTACH;FMTTYPE=image/jpeg:https://cac-outaouais.org/wp-content/uploads/2024/12/original1.P1250519-scaled.jpg
END:VEVENT
BEGIN:VEVENT
DTSTART;TZID=America/Toronto:20260218T180000
DTEND;TZID=America/Toronto:20260218T210000
DTSTAMP:20260421T095330
CREATED:20260122T142454Z
LAST-MODIFIED:20260122T142454Z
UID:9668-1771437600-1771448400@cac-outaouais.org
SUMMARY:Escalade de bloc - Bloc 9.81
DESCRIPTION:Le 18 février à 18h00\, les membres sont invités chez Bloc 9.81 pour une soirée de bloc à 10$ seulement. 🧗‍♀️ \nTous les membres sont les bienvenus pour profiter d’une belle soirée de grimpe!
URL:https://cac-outaouais.org/sorties/escalade-de-bloc-bloc-9-81/
LOCATION:bloc 9.81\, 79 blv de la gappe\, Gatineau\, Québec\, Canada
END:VEVENT
BEGIN:VEVENT
DTSTART;TZID=America/Toronto:20260223T183000
DTEND;TZID=America/Toronto:20260223T200000
DTSTAMP:20260421T095330
CREATED:20260218T020717Z
LAST-MODIFIED:20260218T020717Z
UID:9706-1771871400-1771876800@cac-outaouais.org
SUMMARY:séance de perfectionnement de ski de fond classique
DESCRIPTION:Petite séance de perfectionnement en ski de fond classique donnée par Chloé\, membre du club et entraîneur certifiée.\nTous les niveaux sont bienvenus\, au besoin le groupe sera séparé en petits groupes d’apprentissage.\nMinimum 4 participants\, maximum 15 participants.  \nChloé vous donnera des trucs pour favoriser la gliiiiiiiisssssse tout en étant plus efficace. \nEndroit: Relais plein air. Location de ski disponible sur place.  \ncontribution  volontaire suggérée à remettre le jour du cours.
URL:https://cac-outaouais.org/sorties/seance-de-perfectionnement-de-ski-de-fond-classique/
LOCATION:Ontario
CATEGORIES:Formation,Ski
END:VEVENT
BEGIN:VEVENT
DTSTART;TZID=America/Toronto:20260224T190000
DTEND;TZID=America/Toronto:20260224T213000
DTSTAMP:20260421T095330
CREATED:20260105T234240Z
LAST-MODIFIED:20260210T222503Z
UID:9612-1771959600-1771968600@cac-outaouais.org
SUMMARY:On monte en peaux les mardis soirs à – Centre Vorlage – skin up on Tuesday nights
DESCRIPTION:(English follows below the schedule)\nRendez-vous à côté du foyer extérieur près du chalet principal à 19h. \nSorties de rando alpine\, Télémark et split board les mardis soirs à Centre Vorlage. 12 sorties sont prévues\, 6 dirigées par le Club Alpin Outaouais et 6 dirigées par la section Ottawa de l’ACC. On se rencontre près du foyer extérieur à côté du chalet principal. \nLe droit d’accès de Centre Vorlage est de $10 par soir ou une passe annuelle est $80. \nApportez vos skis de randonnée alpine ou vos skis de Télémark ou votre split board\, avec vos peaux.\n(Désolé pas d’option raquette ni bootpack ni ski Hok\, vous devez avoir des peaux amovibles.) \nOn fait les montées en groupe préférablement dans le sentier forestier\, et on fait les descentes librement pour se retrouver en bas. Bénéficiez des conseils de nos leaders et venez discuter d’autres possibilités de sorties et d’aventures plus engageantes. Nous planifions faire 2 montées à chaque soir\, soit une par la longue montée et l’autre par l’ancien t-bar (2eme montée optionelle). \nS.V.P. venez préparés sur le fonctionnement de vos bottes et fixations et la forme physique pour faire au minimum une montée\, mais on est là pour s’aider entre nous donc pas de stress\, ce n’est pas une course. \n\n\n\n\n\nDate\n\n\nJour Heure Section\n\n\nMeneur\n\n\nSerre-file\n\n\n\n\n6 janvier\n\n\nMardi 19h Outaouais\n\n\nChristian\n\n\nStéphanie\n\n\n\n\n13 janvier\n\n\nMardi 19h Ottawa\n\n\nJames\n\n\nCaitlin\n\n\n\n\n20 janvier\n\n\nMardi 19h Outaouais\n\n\nErik\n\n\nBruno\n\n\n\n\n27 janvier\n\n\nMardi 19h Ottawa\n\n\nKristen\n\n\nAndy\n\n\n\n\n3 février\n\n\nMardi 19h Outaouais\n\n\nChristian\n\n\nGeoffrey\n\n\n\n\n10 février\n\n\nMardi 19h Ottawa\n\n\nCaitlin\n\n\nJustin\n\n\n\n\n17 février\n\n\nMardi 19h Outaouais\n\n\nCindy\n\n\nChristian\n\n\n\n\n24 février\n\n\nMardi 19h Ottawa\n\n\nGeoffrey\n\n\nDerrick\n\n\n\n\n3 mars\n\n\nMardi 19h Ottawa\n\n\nAndy\n\n\nJames\n\n\n\n\n10 mars\n\n\nMardi 19h Outaouais\n\n\nDerrick\n\n\nStéphanie\n\n\n\n\n17 mars\n\n\nMardi 19h Ottawa\n\n\nKristen\n\n\nCindy\n\n\n\n\n24 mars\n\n\nMardi 19h Outaouais\n\n\nBruno\n\n\nErik\n\n\n\n\n\n\nMeet by the outdoor fireplace near the main chalet at 7pm. \nAlpine touring\, Telemark and split board outings on Tuesday evenings at Centre Vorlage. 12 outings are planned\, 6 led by the Club Alpin Outaouais and 6 led by the Ottawa section of the ACC. We meet near the outdoor fireplace next to the main chalet. \nCenter Vorlage admission is $10 per evening\, or an annual pass is $80. \nBring your alpine touring skis or Telemark skis or split board\, with skins.\n(Sorry\, no snowshoe\, bootpack or Hok ski options; you must have removable skins). \nWe climb in groups\, preferably on the forest trail\, and descend freely to meet up at the bottom. Benefit from the advice of our leaders and come along to discuss other possibilities for more engaging outings and adventures. We plan to make 2 ascents each evening\, one via the long ascent and the other via the old t-bar (2nd ascent optional). \nPlease come prepared on how to use your boots and bindings and minimal fitness to do at least one climb\, we’re here to help each other\, so don’t stress\, it’s not a race.
URL:https://cac-outaouais.org/sorties/on-monte-en-peaux-les-mardis-soirs-a-centre-vorlage-skin-up-on-tuesday-nights-21/
LOCATION:vorlage\, 65 Chemin Burnside\, Wakefield\, QC\, J0X 3G0\, Canada
CATEGORIES:Rando Alpine
ATTACH;FMTTYPE=image/jpeg:https://cac-outaouais.org/wp-content/uploads/2024/12/original1.P1250519-scaled.jpg
END:VEVENT
BEGIN:VEVENT
DTSTART;TZID=America/Toronto:20260226T180000
DTEND;TZID=America/Toronto:20260226T203000
DTSTAMP:20260421T095330
CREATED:20260119T164739Z
LAST-MODIFIED:20260120T174109Z
UID:9651-1772128800-1772137800@cac-outaouais.org
SUMMARY:Festival des films d’aventure de femmes 2026\, 26 février au cinéma Mayfair
DESCRIPTION:Le Club Alpin du Canada section Outaouais\, en collaboration avec la section Ottawa est fier de vous présenter une soirée remplie d’aventure !\nLe Women’s Adventure Film Tour est une célébration des femmes inspirantes qui nous entourent et qui accomplissent des choses extraordinaires au nom de l’aventure. Chaque année\, une sélection de films uniques est soigneusement choisie pour montrer des femmes exceptionnelles atteignant leurs objectifs personnels d’aventure. Être aventureux ne signifie pas forcément être le plus rapide\, atteindre les plus hauts sommets ou faire les choses les plus extrêmes. Pour la plupart d’entre nous\, l’aventure consiste à sortir de notre zone de confort et à gravir notre propre Everest. Les films présentent des histoires vraies de femmes issues de différentes cultures et pratiquant divers sports à travers le monde. \nNotez que les films sont en anglais.\nAgenda / Ordre du jour\n-6:00pm – Les portes s’ouvrent\n-6:30pm – Début de la présentation\n-8:15pm – Fin approximative de la projection\n-8:30pm – Tout le monde doit être sorti de la salle\, notre location se termine à 20h30. \nBillets\n• Membre: $16 + frais de transaction\, code rabais dévoilé ici si vous êtes connecté  \n\n• Non-membre: $21 + frais de transaction\n• Lien : Lien Evenbrite pour l’achat de billets\n• Cinéma Mayfair\, 1074 Bank Street Ottawa\, ON K1S 2W3 \nNote: Vous n’avez pas besoin de vous inscrire sur ce site web\, vous n’avez qu’à acheter votre billet sur Eventbrite.
URL:https://cac-outaouais.org/sorties/festival-des-films-daventure-de-femmes-2026-26-fevrier-au-cinema-mayfair/
LOCATION:Cinéma Mayfair\, 1074 Bank Street\, Ottawa\, Ontario\, K1S 2W3\, Canada
CATEGORIES:Social
END:VEVENT
BEGIN:VEVENT
DTSTART;TZID=America/Toronto:20260228T090000
DTEND;TZID=America/Toronto:20260228T120000
DTSTAMP:20260421T095330
CREATED:20260224T161532Z
LAST-MODIFIED:20260224T161532Z
UID:9719-1772269200-1772280000@cac-outaouais.org
SUMMARY:Sortie de raquette P15
DESCRIPTION:Rando en raquette de niveau débutant-intermédiaire d’environ 6-7 km. \nLieu de rencontre: P15 du parc de la Gatineau. \nApportez votre eau\, votre lunch et vos raquettes et vos crampons. Bâtons de marche si vous désirez. \nLe départ se fait de P15\, mon idée est de suivre le sentier 72 jusqu’au lac Brown. Nous pourrons choisir le trajet ensemble dépendent du niveau du groupe. \nCarte des sentiers du parc de la Gatineau: https://storymaps.arcgis.com/stories/54b9e53ee3f24a6181ff2649bff94c64?cover=false&locale=fr \nPour faire de la raquette dans le parc de la Gatineau\, il faut avoir la passe de saison ou la passe pour la journée. Vous pouvez vous procurer la passe journalière en ligne ou sur place: https://ccn-ncc.gc.ca/endroits/laissez-passer-hiver#quotidien  \nJe vous tiendrai au courant la veille de la sortie si les sentiers sont recommandés pour la raquette ou les crampons.
URL:https://cac-outaouais.org/sorties/sortie-de-raquette-p15/
LOCATION:P15 (nouvel emplacement)\, Chemin Cross Loop\, Chelsea\, Québec\, J9B 2K1\, Canada
CATEGORIES:Rando,Raquette
ATTACH;FMTTYPE=image/jpeg:https://cac-outaouais.org/wp-content/uploads/2023/01/323243912_1299353127274559_3970224512249901776_n.jpg
END:VEVENT
END:VCALENDAR