BEGIN:VCALENDAR
VERSION:2.0
PRODID:-//CAC-Outaouais - ECPv6.15.20//NONSGML v1.0//EN
CALSCALE:GREGORIAN
METHOD:PUBLISH
X-WR-CALNAME:CAC-Outaouais
X-ORIGINAL-URL:https://cac-outaouais.org
X-WR-CALDESC:Événements pour CAC-Outaouais
REFRESH-INTERVAL;VALUE=DURATION:PT1H
X-Robots-Tag:noindex
X-PUBLISHED-TTL:PT1H
BEGIN:VTIMEZONE
TZID:America/Toronto
BEGIN:DAYLIGHT
TZOFFSETFROM:-0500
TZOFFSETTO:-0400
TZNAME:EDT
DTSTART:20250309T070000
END:DAYLIGHT
BEGIN:STANDARD
TZOFFSETFROM:-0400
TZOFFSETTO:-0500
TZNAME:EST
DTSTART:20251102T060000
END:STANDARD
BEGIN:DAYLIGHT
TZOFFSETFROM:-0500
TZOFFSETTO:-0400
TZNAME:EDT
DTSTART:20260308T070000
END:DAYLIGHT
BEGIN:STANDARD
TZOFFSETFROM:-0400
TZOFFSETTO:-0500
TZNAME:EST
DTSTART:20261101T060000
END:STANDARD
BEGIN:DAYLIGHT
TZOFFSETFROM:-0500
TZOFFSETTO:-0400
TZNAME:EDT
DTSTART:20270314T070000
END:DAYLIGHT
BEGIN:STANDARD
TZOFFSETFROM:-0400
TZOFFSETTO:-0500
TZNAME:EST
DTSTART:20271107T060000
END:STANDARD
END:VTIMEZONE
BEGIN:VEVENT
DTSTART;TZID=America/Toronto:20260502T100000
DTEND;TZID=America/Toronto:20260502T140000
DTSTAMP:20260422T130710
CREATED:20260415T011451Z
LAST-MODIFIED:20260415T011451Z
UID:9778-1777716000-1777730400@cac-outaouais.org
SUMMARY:Le Grand Marché de MEC (Gear Swap) – samedi 2 mai
DESCRIPTION:Le Grand Marché MEC est de retour !!! \nNous recherchons des personnes intéressées à représenter l’Outaouais au kiosque du magasin MEC d’Ottawa\, de 10 h à 14 h\, le samedi 2 mai. Veuillez-nous en informer avant le 27 avril. Les membres de la section Ottawa sont aussi les bienvenus. \nL’échange d’équipement aura lieu dans le stationnement pendant les heures d’ouverture du magasin. \nLes membres peuvent aussi participer de ces façons :\n1. Apporter et vendre leur propre équipement de plein air à la table du club (sans frais) ;\n2. Passer à l’événement pour découvrir et acheter du matériel à prix avantageux.\n3. Louer une table pour vendre leur propre équipement de plein air (au coût de 20$) \nAutres activités :\n• Démonstrations et essaies de nouveaux équipements par les grandes marques de plein air\n• Tables d’information sur le club \n  \nVous souhaiteriez vous impliquer comme bénévole ?\nCommuniquez avec votre responsable de section à responsable@cac-outaouais.org\, idéalement avant le 27 avril.
URL:https://cac-outaouais.org/sorties/le-grand-marche-de-mec-gear-swap-samedi-2-mai/
LOCATION:MEC 366 Richmond Road\, Ottawa\, 366\, Richmond Road\, Ottawa\, Ontario\, K2A 0E8\, Canada
CATEGORIES:Événement spécial,Social
END:VEVENT
BEGIN:VEVENT
DTSTART;TZID=America/Toronto:20260503T100000
DTEND;TZID=America/Toronto:20260503T140000
DTSTAMP:20260422T130710
CREATED:20260415T011612Z
LAST-MODIFIED:20260415T011747Z
UID:9780-1777802400-1777816800@cac-outaouais.org
SUMMARY:Le Grand Marché de MEC (Gear Swap) – dimanche 3 mai
DESCRIPTION:Le Grand Marché MEC est de retour !!! \nNous recherchons des personnes intéressées à représenter l’Outaouais au kiosque du magasin MEC d’Ottawa\, de 10 h à 14 h\, le dimanche 3 mai. Veuillez-nous en informer avant le 27 avril. Les membres de la section Ottawa sont aussi les bienvenus. \nL’échange d’équipement aura lieu dans le stationnement pendant les heures d’ouverture du magasin. \nLes membres peuvent aussi participer de ces façons :\n1. Apporter et vendre leur propre équipement de plein air à la table du club (sans frais) ;\n2. Passer à l’événement pour découvrir et acheter du matériel à prix avantageux.\n3. Louer une table pour vendre leur propre équipement de plein air (au coût de 20$) \nAutres activités :\n• Démonstrations et essaies de nouveaux équipements par les grandes marques de plein air\n• Tables d’information sur le club \n  \nVous souhaiteriez vous impliquer comme bénévole ?\nCommuniquez avec votre responsable de section à responsable@cac-outaouais.org\, idéalement avant le 27 avril.
URL:https://cac-outaouais.org/sorties/le-grand-marche-de-mec-gear-swap-dimanche3-mai/
LOCATION:MEC 366 Richmond Road\, Ottawa\, 366\, Richmond Road\, Ottawa\, Ontario\, K2A 0E8\, Canada
CATEGORIES:Événement spécial,Social
END:VEVENT
END:VCALENDAR