BEGIN:VCALENDAR
VERSION:2.0
PRODID:-//CAC-Outaouais - ECPv6.15.20//NONSGML v1.0//EN
CALSCALE:GREGORIAN
METHOD:PUBLISH
X-WR-CALNAME:CAC-Outaouais
X-ORIGINAL-URL:https://cac-outaouais.org
X-WR-CALDESC:Événements pour CAC-Outaouais
REFRESH-INTERVAL;VALUE=DURATION:PT1H
X-Robots-Tag:noindex
X-PUBLISHED-TTL:PT1H
BEGIN:VTIMEZONE
TZID:America/Toronto
BEGIN:DAYLIGHT
TZOFFSETFROM:-0500
TZOFFSETTO:-0400
TZNAME:EDT
DTSTART:20250309T070000
END:DAYLIGHT
BEGIN:STANDARD
TZOFFSETFROM:-0400
TZOFFSETTO:-0500
TZNAME:EST
DTSTART:20251102T060000
END:STANDARD
BEGIN:DAYLIGHT
TZOFFSETFROM:-0500
TZOFFSETTO:-0400
TZNAME:EDT
DTSTART:20260308T070000
END:DAYLIGHT
BEGIN:STANDARD
TZOFFSETFROM:-0400
TZOFFSETTO:-0500
TZNAME:EST
DTSTART:20261101T060000
END:STANDARD
BEGIN:DAYLIGHT
TZOFFSETFROM:-0500
TZOFFSETTO:-0400
TZNAME:EDT
DTSTART:20270314T070000
END:DAYLIGHT
BEGIN:STANDARD
TZOFFSETFROM:-0400
TZOFFSETTO:-0500
TZNAME:EST
DTSTART:20271107T060000
END:STANDARD
END:VTIMEZONE
BEGIN:VEVENT
DTSTART;TZID=America/Toronto:20260223T183000
DTEND;TZID=America/Toronto:20260223T200000
DTSTAMP:20260424T224645
CREATED:20260218T020717Z
LAST-MODIFIED:20260218T020717Z
UID:9706-1771871400-1771876800@cac-outaouais.org
SUMMARY:séance de perfectionnement de ski de fond classique
DESCRIPTION:Petite séance de perfectionnement en ski de fond classique donnée par Chloé\, membre du club et entraîneur certifiée.\nTous les niveaux sont bienvenus\, au besoin le groupe sera séparé en petits groupes d’apprentissage.\nMinimum 4 participants\, maximum 15 participants.  \nChloé vous donnera des trucs pour favoriser la gliiiiiiiisssssse tout en étant plus efficace. \nEndroit: Relais plein air. Location de ski disponible sur place.  \ncontribution  volontaire suggérée à remettre le jour du cours.
URL:https://cac-outaouais.org/sorties/seance-de-perfectionnement-de-ski-de-fond-classique/
CATEGORIES:Formation,Ski
END:VEVENT
END:VCALENDAR