BEGIN:VCALENDAR
VERSION:2.0
PRODID:-//CAC-Outaouais - ECPv6.15.20//NONSGML v1.0//EN
CALSCALE:GREGORIAN
METHOD:PUBLISH
X-WR-CALNAME:CAC-Outaouais
X-ORIGINAL-URL:https://cac-outaouais.org
X-WR-CALDESC:Événements pour CAC-Outaouais
REFRESH-INTERVAL;VALUE=DURATION:PT1H
X-Robots-Tag:noindex
X-PUBLISHED-TTL:PT1H
BEGIN:VTIMEZONE
TZID:America/Toronto
BEGIN:DAYLIGHT
TZOFFSETFROM:-0500
TZOFFSETTO:-0400
TZNAME:EDT
DTSTART:20250309T070000
END:DAYLIGHT
BEGIN:STANDARD
TZOFFSETFROM:-0400
TZOFFSETTO:-0500
TZNAME:EST
DTSTART:20251102T060000
END:STANDARD
BEGIN:DAYLIGHT
TZOFFSETFROM:-0500
TZOFFSETTO:-0400
TZNAME:EDT
DTSTART:20260308T070000
END:DAYLIGHT
BEGIN:STANDARD
TZOFFSETFROM:-0400
TZOFFSETTO:-0500
TZNAME:EST
DTSTART:20261101T060000
END:STANDARD
BEGIN:DAYLIGHT
TZOFFSETFROM:-0500
TZOFFSETTO:-0400
TZNAME:EDT
DTSTART:20270314T070000
END:DAYLIGHT
BEGIN:STANDARD
TZOFFSETFROM:-0400
TZOFFSETTO:-0500
TZNAME:EST
DTSTART:20271107T060000
END:STANDARD
END:VTIMEZONE
BEGIN:VEVENT
DTSTART;VALUE=DATE:20260117
DTEND;VALUE=DATE:20260119
DTSTAMP:20260424T211233
CREATED:20251004T135038Z
LAST-MODIFIED:20260113T135611Z
UID:9486-1768608000-1768780799@cac-outaouais.org
SUMMARY:Weekend multi-activités d'hiver à la base de plein air Air-Eau-Bois
DESCRIPTION:C’est avec très grand plaisir que nous organisons une fin de semaine Multi-Activités à la base de plein-air Air Eau Bois. \nNous avons réservé le gîte de 20 places pour le samedi soir.  Le coût est de 25$ par personne pour la nuit. Pour réserver votre place\, inscrivez-vous ici et envoyez les fonds par courriel au Club alpin – Section Outaouais à depot@cac-outaouais.org \nNous ferons un Potluck pour le souper du samedi soir pour ceux intéressés.  Un lien sera envoyé aux participants pour planifier la bouffe! \nActivités prévues pour vous: \n\nSki de fond – Guidée par le club\, Équipement à louer sur place au besoin\nEscalade de glace – Guidée par le club\, location d’équipement disponible\nGlissade sur tube\nPatin\nRaquette – Guidée par le club\, Équipement à louer sur place au besoin\nSki Touring\nFeu de camp 🔥\n\nVous allez recevoir des invitations séparées pour les activités guidées\, veuillez vous inscrire afin que les organisateurs puissent planifier leurs activités en fonction du nombre de participants inscrits. \nIl est aussi possible de venir passer juste la journée le samedi et le dimanche. Pour cela\, veuillez vous inscrire seulement aux activités quand elles seront affichées dans le calendrier. \nBienvenue à tous!!! \nPour toute question\, n’hésitez pas à me contacter.
URL:https://cac-outaouais.org/sorties/weekend-multi-activites-dhiver-a-la-base-de-plein-air-air-eau-bois/
LOCATION:Air-Eau-Bois\, 32 Chemin de la Base de Plein Air\, Denholm\, Québec\, QC J8N 9P6\, Canada
CATEGORIES:Escalade de Glace,Événement spécial,Rando Alpine,Raquette,Ski,Social
ATTACH;FMTTYPE=image/jpeg:https://cac-outaouais.org/wp-content/uploads/2025/10/download.jpg
END:VEVENT
END:VCALENDAR