BEGIN:VCALENDAR
VERSION:2.0
PRODID:-//CAC-Outaouais - ECPv6.15.20//NONSGML v1.0//EN
CALSCALE:GREGORIAN
METHOD:PUBLISH
X-WR-CALNAME:CAC-Outaouais
X-ORIGINAL-URL:https://cac-outaouais.org
X-WR-CALDESC:Événements pour CAC-Outaouais
REFRESH-INTERVAL;VALUE=DURATION:PT1H
X-Robots-Tag:noindex
X-PUBLISHED-TTL:PT1H
BEGIN:VTIMEZONE
TZID:America/Toronto
BEGIN:DAYLIGHT
TZOFFSETFROM:-0500
TZOFFSETTO:-0400
TZNAME:EDT
DTSTART:20240310T070000
END:DAYLIGHT
BEGIN:STANDARD
TZOFFSETFROM:-0400
TZOFFSETTO:-0500
TZNAME:EST
DTSTART:20241103T060000
END:STANDARD
BEGIN:DAYLIGHT
TZOFFSETFROM:-0500
TZOFFSETTO:-0400
TZNAME:EDT
DTSTART:20250309T070000
END:DAYLIGHT
BEGIN:STANDARD
TZOFFSETFROM:-0400
TZOFFSETTO:-0500
TZNAME:EST
DTSTART:20251102T060000
END:STANDARD
BEGIN:DAYLIGHT
TZOFFSETFROM:-0500
TZOFFSETTO:-0400
TZNAME:EDT
DTSTART:20260308T070000
END:DAYLIGHT
BEGIN:STANDARD
TZOFFSETFROM:-0400
TZOFFSETTO:-0500
TZNAME:EST
DTSTART:20261101T060000
END:STANDARD
END:VTIMEZONE
BEGIN:VEVENT
DTSTART;TZID=America/Toronto:20251224T083000
DTEND;TZID=America/Toronto:20251224T170000
DTSTAMP:20260422T015228
CREATED:20251223T194255Z
LAST-MODIFIED:20251224T051132Z
UID:9585-1766565000-1766595600@cac-outaouais.org
SUMMARY:Escalade de Glace - Poisson Blanc
DESCRIPTION:Sortie d’escalade de glace au Poisson Blanc. Ouvert aux participants de tout les niveau qui au minimum: \n\nSavent assurer en moulinette (top rope).\nSont équipé de: casque\, harnais\, piolets\, bottes\, crampons\, dispositif pour assurer.\n\nRequis: \na. Casque\, harnais\, piolets\, bottes\, crampons\, dispositif pour assurer (ATC\, grigri\, etc.).\nb. Lunch (boisson chaude dans thermos recommandée).\nc. Linge approprié pour les conditions climatiques et pour passer la journée a l’extérieur.\nd. Lampe frontale.\ne. Fortement recommandé: lunettes de protection (lunettes de ski\, lunettes de soleil\, etc.). \nJ’aurai les cordes\, kits d’encrage et la trousse de premiers soins. Je m’occuperais d’installer les cordes (aide bienvenue évidemment). \nL’allée à la paroi se fait par la route a partir du stationnement du camp Air-Eau-Bois\, puis 100m dans la neige (il n’est pas necessaire d’avoir de raquettes). \n********RV au Tim Hortons du Pont Alonzo pour 08h30 afin d’organiser le co-voiturage.********
URL:https://cac-outaouais.org/sorties/escalade-de-glace-poisson-blanc-2/
LOCATION:Air-Eau-Bois\, 32 Chemin de la Base de Plein Air\, Denholm\, Québec\, QC J8N 9P6\, Canada
CATEGORIES:Escalade de Glace
END:VEVENT
BEGIN:VEVENT
DTSTART;TZID=America/Toronto:20251229T080000
DTEND;TZID=America/Toronto:20251229T170000
DTSTAMP:20260422T015228
CREATED:20251226T174115Z
LAST-MODIFIED:20251226T210809Z
UID:9590-1766995200-1767027600@cac-outaouais.org
SUMMARY:Sortie d'escalade de glace au Poisson Blanc ou au lac McLaurin
DESCRIPTION:Sortie d’escalade de glace au Poisson Blanc ou au lac McLaurin (selon le choix du groupe). Ouvert aux participants de tout les niveau qui au minimum: \n\nSavent assurer en moulinette (top rope).\nSont équipé de: casque\, harnais\, piolets\, bottes\, crampons\, dispositif pour assurer.\n\nRequis: \na. Casque\, harnais\, piolets\, bottes\, crampons\, dispositif pour assurer (ATC\, grigri\, etc.).\nb. Lunch (boisson chaude dans thermos recommandée).\nc. Linge approprié pour les conditions climatiques et pour passer la journée a l’extérieur.\nd. Lampe frontale. \ne. Raquettes.\nf. Fortement recommandé: lunettes de protection (lunettes de ski\, lunettes de soleil\, etc.). \n  \nJ’aurai les cordes\, kits d’encrage et la trousse de premiers soins. Je m’occuperais d’installer les cordes (aide bienvenue évidemment). \nL’allée à la paroi Poisson Blanc se fait par la route a partir du stationnement du camp Air-Eau-Bois\, puis 100m dans la neige. \nL’allée pour la paroi du Lac MClaurin se fait a partir de la mise a l’eau puis par une piste de motoneige\, suivit de la traversée du lac. Raquettes requises. \n********RV au Tim Hortons du Pont Alonzo pour 08h30 afin d’organiser le co-voiturage.********
URL:https://cac-outaouais.org/sorties/sortie-descalade-de-glace-au-poisson-blanc-ou-au-lac-mclaurin/
LOCATION:Québec
CATEGORIES:Escalade de Glace
END:VEVENT
END:VCALENDAR