BEGIN:VCALENDAR
VERSION:2.0
PRODID:-//CAC-Outaouais - ECPv6.15.20//NONSGML v1.0//EN
CALSCALE:GREGORIAN
METHOD:PUBLISH
X-WR-CALNAME:CAC-Outaouais
X-ORIGINAL-URL:https://cac-outaouais.org
X-WR-CALDESC:Événements pour CAC-Outaouais
REFRESH-INTERVAL;VALUE=DURATION:PT1H
X-Robots-Tag:noindex
X-PUBLISHED-TTL:PT1H
BEGIN:VTIMEZONE
TZID:America/Toronto
BEGIN:DAYLIGHT
TZOFFSETFROM:-0500
TZOFFSETTO:-0400
TZNAME:EDT
DTSTART:20240310T070000
END:DAYLIGHT
BEGIN:STANDARD
TZOFFSETFROM:-0400
TZOFFSETTO:-0500
TZNAME:EST
DTSTART:20241103T060000
END:STANDARD
BEGIN:DAYLIGHT
TZOFFSETFROM:-0500
TZOFFSETTO:-0400
TZNAME:EDT
DTSTART:20250309T070000
END:DAYLIGHT
BEGIN:STANDARD
TZOFFSETFROM:-0400
TZOFFSETTO:-0500
TZNAME:EST
DTSTART:20251102T060000
END:STANDARD
BEGIN:DAYLIGHT
TZOFFSETFROM:-0500
TZOFFSETTO:-0400
TZNAME:EDT
DTSTART:20260308T070000
END:DAYLIGHT
BEGIN:STANDARD
TZOFFSETFROM:-0400
TZOFFSETTO:-0500
TZNAME:EST
DTSTART:20261101T060000
END:STANDARD
END:VTIMEZONE
BEGIN:VEVENT
DTSTART;TZID=America/Toronto:20250304T100000
DTEND;TZID=America/Toronto:20250304T150000
DTSTAMP:20260425T180353
CREATED:20250227T001614Z
LAST-MODIFIED:20250303T162241Z
UID:9172-1741082400-1741100400@cac-outaouais.org
SUMMARY:Exploration Rando Alpine au Parc de la Jacques-Cartier (Québec)
DESCRIPTION:*** On a changé le plan\, ce sera Parc de la Jacques Cartier plutôt que le mont Edouard *** \n \nRando alpine / Télémark / Splitboard pour intermédiaires et avancés\, ça s’addonne qu’on sera dans le coin pour une activité autre que le Club Alpin et on a décidé d’ajouter une journée à notre séjour et de l’ouvrir aux membres pour explorer. Si ça s’addone que vous êtes dans le coin aussi…
URL:https://cac-outaouais.org/sorties/exploration-rando-alpine-au-mont-edouard-saguenay/
LOCATION:Parc de la Jacques-Cartier\, 103 chemin du Parc-National\, Stoneham et Tewkesbury\, Québec\, G3C 2T5\, Canada
CATEGORIES:Bénévolat,Événement spécial,Rando,Ski
END:VEVENT
END:VCALENDAR